BEGIN:VCALENDAR
PRODID:-//Microsoft Corporation//Outlook MIMEDIR//EN
VERSION:2.0
METHOD:PUBLISH
BEGIN:VEVENT
DTSTART:20260420T160000
DTEND:20260420T170000
DESCRIPTION:Cancelled
LOCATION:73 Fern Canyon Rd, Carmel, CA 93923
SUMMARY:Carmel Unincorporated/Highlands Land Use Advisory Committee
CATEGORIES:MEETING
END:VEVENT
END:VCALENDAR
