BEGIN:VCALENDAR
PRODID:-//Microsoft Corporation//Outlook MIMEDIR//EN
VERSION:2.0
METHOD:PUBLISH
BEGIN:VEVENT
DTSTART:20260421T113000
DTEND:20260421T123000
DESCRIPTION:Special Meeting
LOCATION:1441 Schilling Place, 1st Floor, Cayenne Room, Salinas CA, 93901
SUMMARY:Historic Resources Review Board
CATEGORIES:MEETING
END:VEVENT
END:VCALENDAR
