BEGIN:VCALENDAR
PRODID:-//Microsoft Corporation//Outlook MIMEDIR//EN
VERSION:2.0
METHOD:PUBLISH
BEGIN:VEVENT
DTSTART:20260417T120000
DTEND:20260417T130000
DESCRIPTION:
LOCATION:50+ page Advance Reports for the Board of Supervisors meeting on Tuesday, April 28, 2026.
SUMMARY:Advance Reports Over 50 Pages
CATEGORIES:MEETING
END:VEVENT
END:VCALENDAR
