BEGIN:VCALENDAR
PRODID:-//Microsoft Corporation//Outlook MIMEDIR//EN
VERSION:2.0
METHOD:PUBLISH
BEGIN:VEVENT
DTSTART:20260416T090000
DTEND:20260416T100000
DESCRIPTION:Executive Committee Meeting
LOCATION:America’s Job Center of California, 344 Salinas Street Suites 205 & 206, Salinas, CA 93901
SUMMARY:Workforce Development Board
CATEGORIES:MEETING
END:VEVENT
END:VCALENDAR
