BEGIN:VCALENDAR
PRODID:-//Microsoft Corporation//Outlook MIMEDIR//EN
VERSION:2.0
METHOD:PUBLISH
BEGIN:VEVENT
DTSTART:20260504T173000
DTEND:20260504T183000
DESCRIPTION:
LOCATION:8065 Carmel Valley Rd, Carmel, CA 93923
SUMMARY:Carmel Valley Land Use Advisory Committee
CATEGORIES:MEETING
END:VEVENT
END:VCALENDAR
