BEGIN:VCALENDAR
PRODID:-//Microsoft Corporation//Outlook MIMEDIR//EN
VERSION:2.0
METHOD:PUBLISH
BEGIN:VEVENT
DTSTART:20260421T090000
DTEND:20260421T100000
DESCRIPTION:
LOCATION:Closed Session 9:00 to 10:30 a.m.; Open Session Reconvenes at 10:30 a.m.  Join via Zoom at https://montereycty.zoom.us/j/224397747 or in person at the address listed above
SUMMARY:Board of Supervisors
CATEGORIES:MEETING
END:VEVENT
END:VCALENDAR
