BEGIN:VCALENDAR
PRODID:-//Microsoft Corporation//Outlook MIMEDIR//EN
VERSION:2.0
METHOD:PUBLISH
BEGIN:VEVENT
DTSTART:20260415T190000
DTEND:20260415T200000
DESCRIPTION:
LOCATION:65600 Dixie St, Bradley, CA 93426
SUMMARY:South County Land Use Advisory Committee
CATEGORIES:MEETING
END:VEVENT
END:VCALENDAR
