BEGIN:VCALENDAR
PRODID:-//Microsoft Corporation//Outlook MIMEDIR//EN
VERSION:2.0
METHOD:PUBLISH
BEGIN:VEVENT
DTSTART:20260423T143000
DTEND:20260423T153000
DESCRIPTION:Join via Zoom at https://montereycty.zoom.us/j/98456269170 or
LOCATION:In-person at: 168 W. Alisal St, 2nd Floor, Salinas CA–Monterey Room, or 1140 Speegle St, Castroville CA–Dist 2 Office, or 1011 Broadway Street, Ste. C, King City CA-Dist 3 Office  SPECIAL MEETING
SUMMARY:Measure AA Committee
CATEGORIES:MEETING
END:VEVENT
END:VCALENDAR
