BEGIN:VCALENDAR
PRODID:-//Microsoft Corporation//Outlook MIMEDIR//EN
VERSION:2.0
METHOD:PUBLISH
BEGIN:VEVENT
DTSTART:20260414T103000
DTEND:20260414T113000
DESCRIPTION:
LOCATION:Join via Zoom at https://montereycty.zoom.us/j/224397747 or in person at the address listed above
SUMMARY:Board of Supervisors of the Monterey County Water Resources Agency
CATEGORIES:MEETING
END:VEVENT
END:VCALENDAR
