BEGIN:VCALENDAR
PRODID:-//Microsoft Corporation//Outlook MIMEDIR//EN
VERSION:2.0
METHOD:PUBLISH
BEGIN:VEVENT
DTSTART:20260423T090000
DTEND:20260423T100000
DESCRIPTION:Join via Zoom at https://montereycty.zoom.us/j/94054462841 or
LOCATION:In-person at: 168 W. Alisal St, 2nd Floor, Salinas CA–Monterey Room, or 2616 1st Avenue, Marina CA–Dist 4 Office  SPECIAL MEETING
SUMMARY:Alternative Energy and Environment Committee
CATEGORIES:MEETING
END:VEVENT
END:VCALENDAR
