BEGIN:VCALENDAR
PRODID:-//Microsoft Corporation//Outlook MIMEDIR//EN
VERSION:2.0
METHOD:PUBLISH
BEGIN:VEVENT
DTSTART:20260420T120000
DTEND:20260420T130000
DESCRIPTION:
LOCATION:Cayenne Conference Room 1441 Schilling Place, Salinas, CA 93901
SUMMARY:Water Resources Agency Board of Directors
CATEGORIES:MEETING
END:VEVENT
END:VCALENDAR
