BEGIN:VCALENDAR
PRODID:-//Microsoft Corporation//Outlook MIMEDIR//EN
VERSION:2.0
METHOD:PUBLISH
BEGIN:VEVENT
DTSTART:20260505T090000
DTEND:20260505T100000
DESCRIPTION:NOTICE OF CANCELLATION
LOCATION:Meeting has been cancelled
SUMMARY:Board of Supervisors
CATEGORIES:MEETING
END:VEVENT
END:VCALENDAR
