BEGIN:VCALENDAR
PRODID:-//Microsoft Corporation//Outlook MIMEDIR//EN
VERSION:2.0
METHOD:PUBLISH
BEGIN:VEVENT
DTSTART:20260413T133000
DTEND:20260413T143000
DESCRIPTION:Join via Zoom at https://montereycty.zoom.us/j/99917598022 or
LOCATION:In-person at: 168 W. Alisal St, 2nd Floor, Salinas CA–Monterey Room, or 1200 Aguajito Rd, Ste. #1, Monterey, CA–Dist 5 Office
SUMMARY: Legislative Committee
CATEGORIES:MEETING
END:VEVENT
END:VCALENDAR
