BEGIN:VCALENDAR
PRODID:-//Microsoft Corporation//Outlook MIMEDIR//EN
VERSION:2.0
METHOD:PUBLISH
BEGIN:VEVENT
DTSTART:20260428T100000
DTEND:20260428T110000
DESCRIPTION:THE ABOVE REFERENCED MEETING HAS BEEN CANCELLED AS THERE ARE NO PROJECTS TO REVIEW AT THIS TIME.
LOCATION:NOTICE OF CANCELLED MEETING
SUMMARY:South Coast Land Use Advisory Committee
CATEGORIES:MEETING
END:VEVENT
END:VCALENDAR
